BEGIN:VCALENDAR
VERSION:2.0
CALSCALE:GREGORIAN
BEGIN:VEVENT
SUMMARY:Yoga for strength and mobility
DTSTART;TZID=Europe/London:20200623T193000
DTEND;TZID=Europe/London:20200623T204500
LOCATION:Online
DESCRIPTION: In this 75 class we will move in a variety of different ways. We&#039;ll focus on improving strength and mobility to help you move well and feel better. We&#039;ll enjoy a longer relaxation and time to chat at the end.
STATUS:CONFIRMED
SEQUENCE:0
END:VEVENT
END:VCALENDAR