BEGIN:VCALENDAR
VERSION:2.0
CALSCALE:GREGORIAN
BEGIN:VEVENT
SUMMARY:aerial yoga ervaren 75 min - Hart Flow
DTSTART;TZID=Europe/Amsterdam:20210912T122000
DTEND;TZID=Europe/Amsterdam:20210912T133500
LOCATION:Groeneveen 91D, Amsterdam zuidoost (Ganzenhoef)
DESCRIPTION: Aerial yoga hart flow 
Aerial Yoga in de sportschool.

Heerlijk door middel van het doek bewegen. Het doek helpt je te ontspannen, het helpt met diepere stretches, ook helpt het doek je sterker te worden. Je kan met hulp van het doek elke oefening aanpassen en het zo makkelijk of zo uitdagend maken als je zelf wil of waar je aan toe bent.
Meer lezen over aerial yoga? Zie de link

Meer info over Aerial Yoga, zie link
 
https://www.clevertree.nl/aanmelden-diverse-lessen-1/aanmelden-restorative-zwangerschaps-aerial-yoga-les/
STATUS:CONFIRMED
SEQUENCE:0
END:VEVENT
END:VCALENDAR