BEGIN:VCALENDAR
VERSION:2.0
CALSCALE:GREGORIAN
BEGIN:VEVENT
SUMMARY:Prive les Mindful Pilates &#039;60 of Power Pilates beginners &#039;30
DTSTART;TZID=Europe/Amsterdam:20210604T113000
DTEND;TZID=Europe/Amsterdam:20210604T123000
LOCATION:Amsterdam, thuis bij jou
DESCRIPTION: Prive lessen zijn te boeken. ***Dit is 1 op 1 les bij jou thuis, mits je woont in Amsterdam Zuidoost en omgeving***

!!! Liever een andere dag &amp; tijd? Neem contact op www.clevertree.nl/contact

- Bij Mindful Pilates ligt de focus op het loslaten van spierspanning en het verbeteren van de houding. De bewegingen zijn langzaam en beheerst. Deze oefeningen zijn zeer geschikt bij pijnklachten aan nek, rug en schouder, ook zijn ze geschikt voor zwangeren en na zwangerschap ook bij diastase recti.

- Bij Power Pilates ligt de focus op het versterken van de core. De oefeningen kunnen we aanpassen naar makkelijker of zwaarder en is hierdoor zeer goed voor beginners die sterker willen worden. (icm met voeding aanpassing kun je er ook gewicht mee verliezen)
STATUS:CONFIRMED
SEQUENCE:0
END:VEVENT
END:VCALENDAR