BEGIN:VCALENDAR
VERSION:2.0
CALSCALE:GREGORIAN
BEGIN:VEVENT
SUMMARY:Drills and Strength
DTSTART;TZID=Europe/Berlin:20220905T070000
DTEND;TZID=Europe/Berlin:20220905T073000
LOCATION:Zoom / Online
DESCRIPTION: Build Strength.
Reinvigorate your body.
Work on those muscles not involved in your practice.

All levels welcome :)
STATUS:CONFIRMED
SEQUENCE:0
END:VEVENT
END:VCALENDAR