BEGIN:VCALENDAR
VERSION:2.0
CALSCALE:GREGORIAN
BEGIN:VEVENT
SUMMARY:Morning Practice
DTSTART;TZID=Europe/Berlin:20220715T070000
DTEND;TZID=Europe/Berlin:20220715T113500
LOCATION:Zoom Online
DESCRIPTION: A 30/40 minutes morning practice thought for those who are in need of a great start of the day!
STATUS:CONFIRMED
SEQUENCE:0
END:VEVENT
END:VCALENDAR