BEGIN:VCALENDAR
VERSION:2.0
CALSCALE:GREGORIAN
BEGIN:VEVENT
SUMMARY:Workshop: The heart of Mantra en/of Kirtan
DTSTART;TZID=Europe/Amsterdam:20190414T140000
DTEND;TZID=Europe/Amsterdam:20190414T180000
LOCATION:Yogastudio Corazon
DESCRIPTION: Ontdek deze middag hoe je met behulp van mantra&#039;s jouw verbinding met de wereld van energie en bewustzijn kunt verdiepen.
Mantra&#039;s zijn een eeuwenoude meditatievorm, onmisbaar op het pad van de yogi. Zoals elk pad van groei en transformatie waarbij spiritualiteit, bewustzijn en energie centraal staan.

Bas Brand Heek en zijn mantraband &#039;Healing mantra&#039;s&#039; nemen je deze middag mee in een prachtige reis in jezelf...
Klank, visualisatie, adem (prana, chi) en lichaamsbewustzijn vloeien als vanzelf samen bij de beoefening van mantra&#039;s. Je leert te openen en te sluiten en word je bewust van de keuzes die je hebt om je te verbinden met allerlei lagen van bewustzijn. &quot;Waar de geest afdaalt, helpen de mantra&#039;s om je aandacht doelgericht te laten zijn&quot;.

Je kunt zowel alleen aan de workshop meedoen, als alleen aan de kirtan, als aan de hele middag!

Programma:
13.45&gt;Inloop
14.00&gt;Mantra verdieping workshop o.l.v. Bas Brand Heek
15.30&gt;Pauze (thee &amp; snacks)
15.45&gt;Inloop kirtan
16.00&gt;Kirtan met live band: samen mantra&#039;s zingen
18.00&gt;afronding

Healing mantra&#039;s bestaat uit:
Bas Brand Heek: zang, gitaar
Cor Roeven: zang, percussie, gitaar
Anneloes de Greef: zang, harmonium
&amp; gastmuzikanten 

Prijs: -Workshop €25
         -Kirtan €15
Pakketprijs: €35

Opgeven via: susan@yogastudiocorazon.com.
STATUS:CONFIRMED
SEQUENCE:0
END:VEVENT
END:VCALENDAR