BEGIN:VCALENDAR
VERSION:2.0
CALSCALE:GREGORIAN
BEGIN:VEVENT
SUMMARY:Yin yoga
DTSTART;TZID=Europe/Amsterdam:20250513T200000
DTEND;TZID=Europe/Amsterdam:20250513T211500
LOCATION:Yogastudio Corazon
DESCRIPTION: Rustige yogales geschikt voor alle niveaus. Poses zittend of liggend die 3-5 minuten aangehouden worden om zo het bindweefsel te stretchen. Door ons bindweefsel lopen de meridianen (energiebanen) gekoppeld aan diverse organen. Een meditatieve vorm van yoga om heerlijk bij te ontspannen 🙏🏼
STATUS:CONFIRMED
SEQUENCE:0
END:VEVENT
END:VCALENDAR