BEGIN:VCALENDAR
VERSION:2.0
CALSCALE:GREGORIAN
BEGIN:VEVENT
SUMMARY:Restorative en Yoga Nidra les
DTSTART;TZID=Europe/Amsterdam:20180403T190000
DTEND;TZID=Europe/Amsterdam:20180403T201500
LOCATION:Yogastudio Corazon
DESCRIPTION: Op verzoek een complete ‘relax-les’ met Restorative poses (veel kussens ter ondersteuning) en we sluiten af met een lange yoga Nidra (yoga slaap) oefening.
STATUS:CONFIRMED
SEQUENCE:0
END:VEVENT
END:VCALENDAR