BEGIN:VCALENDAR
VERSION:2.0
CALSCALE:GREGORIAN
BEGIN:VEVENT
SUMMARY:Yin yoga
DTSTART;TZID=Europe/Amsterdam:20180426T203000
DTEND;TZID=Europe/Amsterdam:20180426T220000
LOCATION:Yogastudio Corazon
DESCRIPTION: Meditatieve yogales waarbij je 3-5 minuten stil in een houding blijft liggen. Hierdoor ervaar je een diepe ontspanning in het bindweefsel en word je flexibeler en relaxt!
STATUS:CONFIRMED
SEQUENCE:0
END:VEVENT
END:VCALENDAR