BEGIN:VCALENDAR
VERSION:2.0
CALSCALE:GREGORIAN
BEGIN:VEVENT
SUMMARY:Early evening Yin Yoga
DTSTART;TZID=Europe/Amsterdam:20190312T190000
DTEND;TZID=Europe/Amsterdam:20190312T201500
LOCATION:Yogastudio Corazon
DESCRIPTION: Rustige yogales waarbij je 3-5 minuten stil in een houding blijft liggen. Hierdoor ervaar je een diepe ontspanning in het bindweefsel en word je flexibeler en relaxt! 
De yin houdingen (vooral grondoefeningen) richten zich op het dieper gelegen bindweefsel rondom de gewrichten en organen en zorgen voor flexibiliteit en mobiliteit. 
Een mooie complete les waarin je in evenwicht komt, jezelf kunt uitdagen, balans kunt vinden en leert verstillen en accepteren.
STATUS:CONFIRMED
SEQUENCE:0
END:VEVENT
END:VCALENDAR