BEGIN:VCALENDAR
VERSION:2.0
CALSCALE:GREGORIAN
BEGIN:VEVENT
SUMMARY:Ouder&amp;Kind yoga workshop
DTSTART;TZID=Europe/Amsterdam:20190830T093000
DTEND;TZID=Europe/Amsterdam:20190830T110000
LOCATION:Yogastudio Corazon
DESCRIPTION: Dynamische workshop waarin yoga(spel), adem- en massage oefeningen op speelse wijze beoefend worden. Voor kinderen tussen de 4-11 jaar. 
Kosten €20 voor leden, €25 voor niet-leden. Opgeven via Momo of via mail/app svp.
STATUS:CONFIRMED
SEQUENCE:0
END:VEVENT
END:VCALENDAR