BEGIN:VCALENDAR
VERSION:2.0
CALSCALE:GREGORIAN
BEGIN:VEVENT
SUMMARY:Pilates Flow
DTSTART;TZID=Europe/Stockholm:20210731T083000
DTEND;TZID=Europe/Stockholm:20210731T093000
LOCATION:Utomhus / Corestyrka Studion
DESCRIPTION: Vi tränar ute så länge det inte regnar. Alla som bokar är välkomna till passet. Vid regn är det enbart de som har bokningar som kan komma, inte de med reservplats. Detta pga rådande riktlinjer för pandemin då det är 1 person per 10 kvm i lokalen. 

Ta kläder efter väder!
STATUS:CONFIRMED
SEQUENCE:0
END:VEVENT
END:VCALENDAR