BEGIN:VCALENDAR
VERSION:2.0
CALSCALE:GREGORIAN
BEGIN:VEVENT
SUMMARY:* Yang to Yin Yoga  - with Beth
DTSTART;TZID=Europe/London:20250720T100000
DTEND;TZID=Europe/London:20250720T110000
LOCATION:The Courtyard Centre
DESCRIPTION: This class takes inspiration from Chinese, as well as Yogic Philosophy blending two styles of yoga into one practice – starting with a &amp;#039;yang&amp;#039; standing sequence - dynamic, warming and strengthening followed by seated/floor poses held for longer to help release and relax our &amp;#039;yin&amp;#039; connective tissues and joints. Suitable for all although some yoga experience/ good body awareness is highly recommended.
STATUS:CONFIRMED
SEQUENCE:0
END:VEVENT
END:VCALENDAR