BEGIN:VCALENDAR
VERSION:2.0
CALSCALE:GREGORIAN
BEGIN:VEVENT
SUMMARY:COURTYARD OPEN DAY 9am - 4.30pm
DTSTART;TZID=Europe/London:20250104T090000
DTEND;TZID=Europe/London:20250104T163000
LOCATION:The Courtyard, 6 high st, Biggleswade, SG18 0JA
DESCRIPTION: 
STATUS:CONFIRMED
SEQUENCE:0
END:VEVENT
END:VCALENDAR