BEGIN:VCALENDAR
VERSION:2.0
CALSCALE:GREGORIAN
BEGIN:VEVENT
SUMMARY:Sound Bath with Catherine
DTSTART;TZID=Europe/London:20250104T140000
DTEND;TZID=Europe/London:20250104T144500
LOCATION:The Courtyard, 6 high st, Biggleswade, SG18 0JA
DESCRIPTION: 
STATUS:CONFIRMED
SEQUENCE:0
END:VEVENT
END:VCALENDAR