BEGIN:VCALENDAR
VERSION:2.0
CALSCALE:GREGORIAN
BEGIN:VEVENT
SUMMARY:Tai Chi + Qi Gong - with Chris
DTSTART;TZID=Europe/London:20241230T093000
DTEND;TZID=Europe/London:20241230T110000
LOCATION:The Courtyard, 6 high st, Biggleswade, SG18 0JA
DESCRIPTION: 
STATUS:CONFIRMED
SEQUENCE:0
END:VEVENT
END:VCALENDAR