BEGIN:VCALENDAR
VERSION:2.0
CALSCALE:GREGORIAN
BEGIN:VEVENT
SUMMARY:Meditation 10 week course
DTSTART;TZID=Europe/London:20250226T200000
DTEND;TZID=Europe/London:20250226T211500
LOCATION:The Courtyard, 6 high st, Biggleswade, SG18 0JA
DESCRIPTION: 
STATUS:CONFIRMED
SEQUENCE:0
END:VEVENT
END:VCALENDAR