BEGIN:VCALENDAR
VERSION:2.0
CALSCALE:GREGORIAN
BEGIN:VEVENT
SUMMARY:Flow &amp; Relax Yoga
DTSTART;TZID=Europe/Berlin:20260507T180000
DTEND;TZID=Europe/Berlin:20260507T190000
LOCATION:Online via Zoom
DESCRIPTION: Dies ist eine ausgewogene Yoga-Stunde. Wir kombinieren achtsame Bewegungsabläufe mit bewusster Atmung. Jede Stunde endet mit einer regenerierenden Entspannungsphase.

Details:
- Der Kurs ist für alle Level geeignet.
- Dies ist ein Online-Kurs. Bitte stelle sicher, dass du dich in einer ruhigen Umgebung befindest und bequeme Kleidung trägst.
- Du brauchst nur eine Matte. Zusätzliche Hilfsmittel wie Yogablöcke, Decken oder Kissen können hilfreich sein, sind aber immer optional.
- Bitte sei pünktlich.

Buchung und Stornierung:
Kursbuchungen sind bis zu 5 Stunden vor Kursbeginn möglich. Stornierungen müssen vom Teilnehmenden mindestens 12 Stunden im Voraus erfolgen. Bei Stornierungen, die weniger als 12 Stunden vor Kursbeginn erfolgen, besteht kein Anspruch auf Rückerstattung.
Mit der Buchung dieses Kurses erklärst du dich mit den AGB und der Datenschutzerklärung einverstanden.
STATUS:CONFIRMED
SEQUENCE:0
END:VEVENT
END:VCALENDAR