BEGIN:VCALENDAR
VERSION:2.0
CALSCALE:GREGORIAN
BEGIN:VEVENT
SUMMARY:Yin Yoga zomerles 10,- per keer
DTSTART;TZID=Europe/Amsterdam:20250714T204500
DTEND;TZID=Europe/Amsterdam:20250714T214500
LOCATION:De Lawei, Drachten
DESCRIPTION: Graag ga ik wat langer door. De zomerlessen zitten niet in het abonnement, vandaar losse betalingen per keer. Graag contant meenemen.
De yin lessen worden altijd goed bezocht, waarschijnlijk omdat het zo fijn werkt voor de ontspanning. Tijdens de houdingen gaan we naar diepere lagen (bindweefsel) waardoor je prana (levensenergie) weer ruimte krijgt om te gaan stromen. Yin kan je een soepeler/flexibeler lichaam geven.
STATUS:CONFIRMED
SEQUENCE:0
END:VEVENT
END:VCALENDAR