BEGIN:VCALENDAR
VERSION:2.0
CALSCALE:GREGORIAN
BEGIN:VEVENT
SUMMARY:Vandaag krijg je weer een nieuwe les in je mail box. Elke week weer een andere ♥
DTSTART;TZID=Europe/Amsterdam:20250611T000500
DTEND;TZID=Europe/Amsterdam:20250611T001000
LOCATION:thuis
DESCRIPTION: 
STATUS:CONFIRMED
SEQUENCE:0
END:VEVENT
END:VCALENDAR