BEGIN:VCALENDAR
VERSION:2.0
CALSCALE:GREGORIAN
BEGIN:VEVENT
SUMMARY:Extra zachte Yoga zomerles 10,- per keer
DTSTART;TZID=Europe/Amsterdam:20250718T093000
DTEND;TZID=Europe/Amsterdam:20250718T103000
LOCATION:De Lawei, Drachten
DESCRIPTION: Graag ga ik wat langer door. De zomerlessen zitten niet in het abonnement, vandaar losse betalingen per keer. Graag contant meenemen.
Rustige les voor iedereen. Het fijne van deze lessen is dat je steeds dichterbij de finesses van je lichaam komt. Zonder een intense uitdaging. Juist de rust en tijd nemen je mee. Deze lessen kunnen je meer inzicht gegeven in de &amp;#34;wijze&amp;#34; lessen van ons lichaam.
STATUS:CONFIRMED
SEQUENCE:0
END:VEVENT
END:VCALENDAR