BEGIN:VCALENDAR
VERSION:2.0
CALSCALE:GREGORIAN
BEGIN:VEVENT
SUMMARY:Yin Yang
DTSTART;TZID=Europe/Amsterdam:20260413T164500
DTEND;TZID=Europe/Amsterdam:20260413T174500
LOCATION:De Lawei, Drachten
DESCRIPTION: Zachte les waarbij we rustig bewegen afwisselen met yin houdingen (zie Yin les)
Alle lessen zijn voor iedereen te doen, je doet altijd mee op je eigen niveau. Er kunnen bij elke houding aanpassingen gedaan worden zodat het voor iedereen goed voelt. Dat is ook de reden waarom ik niet graag werk met niveau&#039;s. Er is sowieso een passende houding.
STATUS:CONFIRMED
SEQUENCE:0
END:VEVENT
END:VCALENDAR