BEGIN:VCALENDAR
VERSION:2.0
CALSCALE:GREGORIAN
BEGIN:VEVENT
SUMMARY:Yin afgewisseld met Yin Yang (rustige les)
DTSTART;TZID=Europe/Amsterdam:20260501T103000
DTEND;TZID=Europe/Amsterdam:20260501T113000
LOCATION:Biskopwei 19, De Wilgen
DESCRIPTION: Zo fijn dat we vanaf nu op de vrijdag altijd verzekerd zijn van een plaatsje om je weekend fijn te beginnen met een rustige yogales ♥
STATUS:CONFIRMED
SEQUENCE:0
END:VEVENT
END:VCALENDAR