BEGIN:VCALENDAR
VERSION:2.0
CALSCALE:GREGORIAN
BEGIN:VEVENT
SUMMARY:Ademcirkel
DTSTART;TZID=Europe/Amsterdam:20240218T140000
DTEND;TZID=Europe/Amsterdam:20240218T170000
LOCATION:Centrum Silentio Diessen
DESCRIPTION: Dineke begeleidt je met transformele ademhaling waardoor het lichaam en geest daarna helemaal ontspannen zijn
STATUS:CONFIRMED
SEQUENCE:0
END:VEVENT
END:VCALENDAR