BEGIN:VCALENDAR
VERSION:2.0
CALSCALE:GREGORIAN
BEGIN:VEVENT
SUMMARY:Hatha klassiek
DTSTART;TZID=Europe/Amsterdam:20240507T090000
DTEND;TZID=Europe/Amsterdam:20240507T101500
LOCATION:Centrum Silentio Diessen
DESCRIPTION: Prana yama ‘s
Klassieke asana’s
STATUS:CONFIRMED
SEQUENCE:0
END:VEVENT
END:VCALENDAR