BEGIN:VCALENDAR
VERSION:2.0
CALSCALE:GREGORIAN
BEGIN:VEVENT
SUMMARY:Cacaoceremonie estatic dance 💫
DTSTART;TZID=Europe/Amsterdam:20251219T190000
DTEND;TZID=Europe/Amsterdam:20251219T220000
LOCATION:Centrum Silentio Diessen
DESCRIPTION: Cacaoceremonie met Estatic dance ( vrij dansen) yin yoga en verdiepte eindontspanning
STATUS:CONFIRMED
SEQUENCE:0
END:VEVENT
END:VCALENDAR