BEGIN:VCALENDAR
VERSION:2.0
CALSCALE:GREGORIAN
BEGIN:VEVENT
SUMMARY:Beginners Belly Dance
DTSTART;TZID=Pacific/Auckland:20190903T180000
DTEND;TZID=Pacific/Auckland:20190903T190000
LOCATION:Ancient Arts studio
DESCRIPTION: In this four week course you will learn and explore the fundamentals of this beautiful, graceful, feminine dance through a warm-up, drills, break-down of techniques and a stretch and cool down at the end. 

Belly dance is a wonderful way of gently toning the body and giving your brain a work-out while having heaps of fun and feeling like a Goddess!

Cost is $50 for 4 week course - or $15 for a class
STATUS:CONFIRMED
SEQUENCE:0
END:VEVENT
END:VCALENDAR