BEGIN:VCALENDAR
VERSION:2.0
CALSCALE:GREGORIAN
BEGIN:VEVENT
SUMMARY:108 Salutes to the Sun - Summer Solstice
DTSTART;TZID=Pacific/Auckland:20191221T070000
DTEND;TZID=Pacific/Auckland:20191221T083000
LOCATION:Sea View Road Viewpoint
DESCRIPTION: Celebrate the longest day with me at the stunning viewpoint above Whakatane, on the corner of Seaview Road and Hillcrest Road, with 108 Salutes to the Sun, then afterwards at the Bean cafe for a coffee/chai/breakfast.

Bring along your yoga mat, towel, water.

Alternative wet weather venue - Ancient Arts studio, on the Strand, Whakatane.
STATUS:CONFIRMED
SEQUENCE:0
END:VEVENT
END:VCALENDAR