BEGIN:VCALENDAR
VERSION:2.0
CALSCALE:GREGORIAN
BEGIN:VEVENT
SUMMARY:Belly Dance Drills and  choreo
DTSTART;TZID=Pacific/Auckland:20191230T060000
DTEND;TZID=Pacific/Auckland:20191230T070000
LOCATION:Ancient Arts studio
DESCRIPTION: 
STATUS:CONFIRMED
SEQUENCE:0
END:VEVENT
END:VCALENDAR