BEGIN:VCALENDAR
VERSION:2.0
CALSCALE:GREGORIAN
BEGIN:VEVENT
SUMMARY:Bellydance - Final run through.
DTSTART;TZID=Pacific/Auckland:20200207T180000
DTEND;TZID=Pacific/Auckland:20200207T190000
LOCATION:Ancient Arts studio
DESCRIPTION: Last rehearsal before the Dance Carnival.  Please be prompt!
STATUS:CONFIRMED
SEQUENCE:0
END:VEVENT
END:VCALENDAR