BEGIN:VCALENDAR
VERSION:2.0
CALSCALE:GREGORIAN
BEGIN:VEVENT
SUMMARY:Ohope Flow Yoga
DTSTART;TZID=Pacific/Auckland:20210305T083000
DTEND;TZID=Pacific/Auckland:20210305T093000
LOCATION:West End, Ohope
DESCRIPTION: A general flow class held at West End, Ohope on the grass, (first house along the private lane by the end car park), in a stunning location overlooking the ocean.
STATUS:CONFIRMED
SEQUENCE:0
END:VEVENT
END:VCALENDAR