BEGIN:VCALENDAR
VERSION:2.0
CALSCALE:GREGORIAN
BEGIN:VEVENT
SUMMARY:End of year Drinks and Nibbles
DTSTART;TZID=Pacific/Auckland:20201217T184500
DTEND;TZID=Pacific/Auckland:20201217T203000
LOCATION:Ancient Arts studio
DESCRIPTION: As a thank you for your ongoing support, and as a way for us to end 2020 on a positive note, you are invited to drinks and nibbles.  

Drinks and nibbles provided.  Entertainment will be provided by the Devabelly troupe.

Booking is absolutely essential as there is a safety limit on numbers.
STATUS:CONFIRMED
SEQUENCE:0
END:VEVENT
END:VCALENDAR