BEGIN:VCALENDAR
VERSION:2.0
CALSCALE:GREGORIAN
BEGIN:VEVENT
SUMMARY:Dance Practice
DTSTART;TZID=Pacific/Auckland:20201229T183000
DTEND;TZID=Pacific/Auckland:20201229T193000
LOCATION:Ancient Arts studio
DESCRIPTION: 
STATUS:CONFIRMED
SEQUENCE:0
END:VEVENT
END:VCALENDAR