BEGIN:VCALENDAR
VERSION:2.0
CALSCALE:GREGORIAN
BEGIN:VEVENT
SUMMARY:Mindful Yoga + Movement
DTSTART;TZID=Europe/London:20240614T193000
DTEND;TZID=Europe/London:20240614T203000
LOCATION:Online (Zoom)
DESCRIPTION: A nourishing Friday evening class of gentle, mindful yoga + movement for a health, happy body + mind.
STATUS:CONFIRMED
SEQUENCE:0
END:VEVENT
END:VCALENDAR