BEGIN:VCALENDAR
VERSION:2.0
CALSCALE:GREGORIAN
BEGIN:VEVENT
SUMMARY:Kleuterdans
DTSTART;TZID=Europe/Amsterdam:20221205T151500
DTEND;TZID=Europe/Amsterdam:20221205T160000
LOCATION:Molenstraat 50A
DESCRIPTION: Kleuterdans is erg geschikt voor kleuters in groep 1/2 van de basisschool, die thuis niet stil kunnen zitten als er muziek aan staat.  In deze lessen wordt spelenderwijs gewerkt aan de ontwikkeling van muzikaliteit, expressie, improvisatie, creativiteit en beleving.  Daarnaast leer je al een flinke basis aan danstechnieken: de focus ligt naast plezier maken op de eerste echte danskennis, technische oefeningen en combinaties. Je lieve dansdocent leert jou spelenderwijs de mooiste en leukste danspassen en bewegingen. Een danswereld vol van fantasie, waarin we elke 3 a 4 weken werken met een andere thema. Kleuterdans is het perfecte opstapje om daarna jouw favoriete dansstijl te kunnen kiezen.
STATUS:CONFIRMED
SEQUENCE:0
END:VEVENT
END:VCALENDAR