BEGIN:VCALENDAR
VERSION:2.0
CALSCALE:GREGORIAN
BEGIN:VEVENT
SUMMARY:Streetjazz/Hiphop gr 4-5
DTSTART;TZID=Europe/Amsterdam:20230628T163000
DTEND;TZID=Europe/Amsterdam:20230628T173000
LOCATION:Molenstraat 50A
DESCRIPTION: Streetjazz/hiphop biedt een goede basis aan danstechniek uit de streetjazz gemixt met de moves van nú. Zie het als een verlengde van de cursus dansmix, maar met meer nadruk op de urban kant. Dansen op de muziek van nu!  In deze lessen werken we vanuit de basistechniek van jazz, met veel dansenergie, pit en de lekkerste muziek en is er ruimte voor de stoere en coole moves en hippe choreografieën. Kenmerken is het ontwikkelen van dansgevoel, ritme, kracht en timing.
STATUS:CONFIRMED
SEQUENCE:0
END:VEVENT
END:VCALENDAR