BEGIN:VCALENDAR
VERSION:2.0
CALSCALE:GREGORIAN
BEGIN:VEVENT
SUMMARY:strong vinyasa flow
DTSTART;TZID=Europe/Vienna:20260213T080000
DTEND;TZID=Europe/Vienna:20260213T091500
LOCATION:im YogaAtelier
DESCRIPTION: Du hast bereits einige EASY VINYASA FLOW Einheiten absolviert, den Genuss von den fließenden Bewegungen erlebt und möchtest mehr? Dann ist dieser Kurs genau das Richtige für dich!

In dieser Klasse werden die Positionen verfeinert, mehr variiert und etwas herausfordernder gestaltet.

Intermediate ist der Schritt in die Ebene der fortgeschrittenen Anfänger.
STATUS:CONFIRMED
SEQUENCE:0
END:VEVENT
END:VCALENDAR