BEGIN:VCALENDAR
VERSION:2.0
CALSCALE:GREGORIAN
BEGIN:VEVENT
SUMMARY:Yoga für den Rücken
DTSTART;TZID=Europe/Vienna:20260310T173000
DTEND;TZID=Europe/Vienna:20260310T184500
LOCATION:im YogaAtelier
DESCRIPTION: Sanfte Kräftigung und Dehnung für Rücken, Bauch und Beine – mit gezielten Übungen zur Öffnung der Hüften.
Die Praxis unterstützt deine Haltung, löst Verspannungen und bringt Stabilität, Leichtigkeit und neue Beweglichkeit in deinen Körper.
Für alle Level geeignet.
Yoga für den Rücken ist besonders für Personen mit Rückenschmerzen oder zur Vorbeugung von Rückenproblemen empfehlenswert.
Das Ziel ist eine entspannte und aufrechte Haltung sowie Freude an der gemeinsamen Bewegung!

HINWEIS: Starke und akute Rückenschmerzen sollten immer ärztlich abgeklärt werden!
Rücken Yoga ersetzt keine ärztliche Diagnose!
STATUS:CONFIRMED
SEQUENCE:0
END:VEVENT
END:VCALENDAR