BEGIN:VCALENDAR
VERSION:2.0
CALSCALE:GREGORIAN
BEGIN:VEVENT
SUMMARY:FULL Beaver MOON Practice
DTSTART;TZID=America/Toronto:20211119T183000
DTEND;TZID=America/Toronto:20211119T194500
LOCATION:Online
DESCRIPTION: 
STATUS:CONFIRMED
SEQUENCE:0
END:VEVENT
END:VCALENDAR