BEGIN:VCALENDAR
VERSION:2.0
CALSCALE:GREGORIAN
BEGIN:VEVENT
SUMMARY:Yoga Nidra - A Path to Tranquility
DTSTART;TZID=America/Toronto:20211217T203000
DTEND;TZID=America/Toronto:20211217T211500
LOCATION:Online
DESCRIPTION: 
STATUS:CONFIRMED
SEQUENCE:0
END:VEVENT
END:VCALENDAR