BEGIN:VCALENDAR
VERSION:2.0
CALSCALE:GREGORIAN
BEGIN:VEVENT
SUMMARY:Gentle Hatha Yoga &amp; Deep Relaxation
DTSTART;TZID=America/Toronto:20220225T190000
DTEND;TZID=America/Toronto:20220225T200000
LOCATION:Online
DESCRIPTION: Gentle Hatha &amp;amp; Deep Relaxation ~ intuitive tranquility ~ surrender into this gentle evening class to restore your mind, body and spirit after the work week. This practice can be done on the mat or in a chair - 60 minutes
STATUS:CONFIRMED
SEQUENCE:0
END:VEVENT
END:VCALENDAR