BEGIN:VCALENDAR
VERSION:2.0
CALSCALE:GREGORIAN
BEGIN:VEVENT
SUMMARY:Yin Yoga
DTSTART;TZID=America/Toronto:20220428T091500
DTEND;TZID=America/Toronto:20220428T103000
LOCATION:Online
DESCRIPTION: Yin Yoga ~ soothing healing ~ practices to support the Spring aligning  with the element of wood, as nature begin a cycle of renew and growth, and the meridians of the liver and gallbladder ~ Mondays - 4:00 - 5:00 p.m. and Thursdays - 9:15 - 10:30 a.m.
STATUS:CONFIRMED
SEQUENCE:0
END:VEVENT
END:VCALENDAR