BEGIN:VCALENDAR
VERSION:2.0
CALSCALE:GREGORIAN
BEGIN:VEVENT
SUMMARY:Yin Yoga
DTSTART;TZID=America/Toronto:20220425T160000
DTEND;TZID=America/Toronto:20220425T170000
LOCATION:Online
DESCRIPTION: Yin Yoga ~ soothing healing ~ practices to support the Spring aligning  with the element of wood, as nature begin a cycle of renew and growth, and the meridians of the liver and gallbladder
STATUS:CONFIRMED
SEQUENCE:0
END:VEVENT
END:VCALENDAR