BEGIN:VCALENDAR
VERSION:2.0
CALSCALE:GREGORIAN
BEGIN:VEVENT
SUMMARY:Chakra Balancing Hatha Flow
DTSTART;TZID=America/Toronto:20220531T091500
DTEND;TZID=America/Toronto:20220531T103000
LOCATION:Online
DESCRIPTION: A flowing Hatha practice to balance and bring awareness to the chakras.
STATUS:CONFIRMED
SEQUENCE:0
END:VEVENT
END:VCALENDAR