BEGIN:VCALENDAR
VERSION:2.0
CALSCALE:GREGORIAN
BEGIN:VEVENT
SUMMARY:Working with Loop Straps  - Workshop &amp; Class @ The Loft
DTSTART;TZID=America/Toronto:20220630T180000
DTEND;TZID=America/Toronto:20220630T200000
LOCATION:The Loft @ The Unique Town Boutique
DESCRIPTION: We begins with a workshop that explores creative, therapeutic and fun ways to use a loop strap, and then flow through a practice using the strap.
It&#039;s unique because it has two loops and each participant will go home with their very own 8&#039; organic loop strap!
This event is limited to 6 participants and the cost is $60.00
STATUS:CONFIRMED
SEQUENCE:0
END:VEVENT
END:VCALENDAR