BEGIN:VCALENDAR
VERSION:2.0
CALSCALE:GREGORIAN
BEGIN:VEVENT
SUMMARY:Extra Yoga Flow
DTSTART;TZID=Europe/Amsterdam:20250418T090000
DTEND;TZID=Europe/Amsterdam:20250418T100000
LOCATION:Zuiderdijk 3, Venhuizen
DESCRIPTION: Vanwege Pasen is er deze vrijdag een extra les. Het ligt tussen de ontspanningsyoga en de normale yoga is qua intensiteit. Wees welkom!
STATUS:CONFIRMED
SEQUENCE:0
END:VEVENT
END:VCALENDAR