BEGIN:VCALENDAR
VERSION:2.0
CALSCALE:GREGORIAN
BEGIN:VEVENT
SUMMARY:🎎GEEN LESSEN: PAASVAKANTIE 7/4 - 19/4🏯
DTSTART;TZID=Europe/Brussels:20250407T145500
DTEND;TZID=Europe/Brussels:20250407T155500
LOCATION:
DESCRIPTION: 
STATUS:CONFIRMED
SEQUENCE:0
END:VEVENT
END:VCALENDAR