BEGIN:VCALENDAR
VERSION:2.0
CALSCALE:GREGORIAN
BEGIN:VEVENT
SUMMARY:Voor het uurrooster van SEPTEMBER starten de reservaties op zondag 31 augustus 2025. Raadpleeg de pagina “September 2025” op onze website om ons nieuwe uurrooster te bekijken.
DTSTART;TZID=Europe/Brussels:20250824T172500
DTEND;TZID=Europe/Brussels:20250824T182500
LOCATION:
DESCRIPTION: 
STATUS:CONFIRMED
SEQUENCE:0
END:VEVENT
END:VCALENDAR