BEGIN:VCALENDAR
VERSION:2.0
CALSCALE:GREGORIAN
BEGIN:VEVENT
SUMMARY:❄️ PILATES MAT (D-Vibes vanaf 2/2) Lees bij omschrijving meer.
DTSTART;TZID=Europe/Brussels:20260131T091500
DTEND;TZID=Europe/Brussels:20260131T101500
LOCATION:
DESCRIPTION: 20 deelnemers - 
🚪 Deuren open: 09u05
❗ Minder dan 3 inschrijvingen = les geannuleerd (90 min. vooraf beslist, beurt blijft behouden)

👊NIEUW: D-VIBES les i.p.v. gewone pilates mat, start 2/2.
= D-VIBES ➡️ Eerste 20 min conditie (sneakers aan!), daarna PILATES matwerk
1e maandag van de maand → D-Vibes
2e woensdag van de maand → D-Vibes
3e zaterdag van de maand → D-Vibes

🎯 Niveau: Iedereen welkom
💫 Focus: Corekracht, stabiliteit &amp; bewust bewegen
🎶 Afsluitende stretch

🔄 Annuleren/verplaatsen: tot 4u vooraf via de app
🧦 Blote voeten of antislipsokken aan
🌸 Handdoek &amp; water meebrengen
→ Beurtenkaarten 6 maanden geldig
🎁 Cadeaubonnen beschikbaar
✔️ Geen lessen tijdens vakantieperiodes, tenzij anders vermeld
STATUS:CONFIRMED
SEQUENCE:0
END:VEVENT
END:VCALENDAR