BEGIN:VCALENDAR
VERSION:2.0
CALSCALE:GREGORIAN
BEGIN:VEVENT
SUMMARY:🎄🎀🌿 Soft &amp; Calm Yoga Stretch &amp; Soundbath
DTSTART;TZID=Europe/Brussels:20251220T103000
DTEND;TZID=Europe/Brussels:20251220T113000
LOCATION:
DESCRIPTION: 🔥 Max. 15 plekjes!
🎀 -&gt; Voor onze laatste yogalesjes van 2025 doen we het een beetje anders… dresscode time!
Trek iets leuks aan, breng iets vrolijks mee, of ga gewoon eens heerlijk zot.
Ik ga all the way, dus voel je vrij om helemaal mee te gaan in de speelse energie.
Laten we samen genieten, lachen, ontspannen en het jaar afsluiten met een dikke glimlach en een warm hart. Tot op de mat ✨
🎄 🤶 -&gt; Tijdens deze lessen zorgen we voor éxtra kerstsfeer, een langere relaxatie, en een uitgebreidere soundbath. Een ideaal moment om nog wat meer rust te vinden tijdens de drukke eindejaarsweken! 🤶🎄 

👉 Minder dan 3 inschrijvingen? Dan wordt de les 90 min. voor aanvang geannuleerd (je beurt krijg je uiteraard terug)

👉 Annuleren of verplaatsen kan tot 6u op voorhand, zelf via de momo app aub

🧦 Warme sokken meebrengen en kleed je in lagen aan
🌸 Breng handdoek en water mee

🌿 Een zaterdagochtend vol zachtheid, balans en hernieuwing.
✔︎ We starten met zachte flow en stretch (Soft Yoga Stretch), vervolgens verdiepen we in yin-houdingen (Calm Yoga Stretch), en sluiten af met een helend Soundbath.🎵

🎵-&gt; Als je naar de sound komt in mijn lesjes respecteer ik alle reacties….dus als iemand er gevoelig voor is speel ik meer de handpan, rainstick en binnenkort mijn KOTAMO! Dus geen zorgen en ik snap/respecteer het! Geef even voor de les me een seintje👌

🕐 Tijd: Zaterdag 10:30 – 11:30
🎯 Niveau: Iedereen welkom
💫 Effect: Balans – rust – innerlijke verbinding

🎁 Extra’s: Cadeaubonnen op aanvraag
🌿 Duo Proefpakket - 2 lessen naar keuze – 1 maand geldig - alleen geldig bij je eerste bezoek in de studio - €28

Losse les €20
3-beurtenkaart €57, (€19 / les)
5-beurtenkaart €88, (€17,60 / les)
10-beurtenkaart €150, (€15 / les)
15-beurtenkaart €210, (€14 / les)
20-beurtenkaart €260, (€13 / les)

-&gt; Beurtenkaarten zijn 6 maanden geldig vanaf aankoop. 

✔︎ Vakantieperiodes = geen lessen tenzij anders vermeld.
STATUS:CONFIRMED
SEQUENCE:0
END:VEVENT
END:VCALENDAR